BEGIN:VCALENDAR
VERSION:2.0
PRODID:-//Les Aquaculteurs du Rosey - ECPv6.15.20//NONSGML v1.0//EN
CALSCALE:GREGORIAN
METHOD:PUBLISH
X-WR-CALNAME:Les Aquaculteurs du Rosey
X-ORIGINAL-URL:https://lesaquaculteursdurosey.fr
X-WR-CALDESC:Évènements pour Les Aquaculteurs du Rosey
REFRESH-INTERVAL;VALUE=DURATION:PT1H
X-Robots-Tag:noindex
X-PUBLISHED-TTL:PT1H
BEGIN:VTIMEZONE
TZID:UTC
BEGIN:STANDARD
TZOFFSETFROM:+0000
TZOFFSETTO:+0000
TZNAME:UTC
DTSTART:20250101T000000
END:STANDARD
END:VTIMEZONE
BEGIN:VEVENT
DTSTART;TZID=UTC:20260501T183000
DTEND;TZID=UTC:20260501T230000
DTSTAMP:20260420T063120
CREATED:20260401T151515Z
LAST-MODIFIED:20260401T151837Z
UID:1210-1777660200-1777676400@lesaquaculteursdurosey.fr
SUMMARY:1er Anniversaire concert pop rock avec Guilty Machine !!!
DESCRIPTION:
URL:https://lesaquaculteursdurosey.fr/event/1er-anniversaire-concert-pop-rock-avec-guilty-machine/
LOCATION:Pisciculture\, 4 rue du Rosey\, Fontaine-Sous-Jouy\, Haute-Normandie\, France\, 27120\, France
END:VEVENT
END:VCALENDAR